BEGIN:VCALENDAR
VERSION:2.0
PRODID:-//APAN - ECPv5.0.2//NONSGML v1.0//EN
CALSCALE:GREGORIAN
METHOD:PUBLISH
X-WR-CALNAME:APAN
X-ORIGINAL-URL:https://apan.pt
X-WR-CALDESC:Events for APAN
BEGIN:VTIMEZONE
TZID:Europe/Lisbon
BEGIN:DAYLIGHT
TZOFFSETFROM:+0000
TZOFFSETTO:+0100
TZNAME:WEST
DTSTART:20230326T010000
END:DAYLIGHT
BEGIN:STANDARD
TZOFFSETFROM:+0100
TZOFFSETTO:+0000
TZNAME:WET
DTSTART:20231029T010000
END:STANDARD
END:VTIMEZONE
BEGIN:VEVENT
DTSTART;VALUE=DATE:20230606
DTEND;VALUE=DATE:20230607
DTSTAMP:20260425T123024
CREATED:20230623T150026Z
LAST-MODIFIED:20230717T142532Z
UID:23493-1686009600-1686095999@apan.pt
SUMMARY:Better Marketing.Mesmo a propósito
DESCRIPTION:A Sustentabilidade e a Eficácia da Comunicação na Era Digital são temas que vêm “Mesmo a Propósito”\, num mundo em profunda mudança\, que coloca várias exigências às marcas que se querem diferenciar. \nEstabelecer compromissos claros com o planeta e com a sociedade\, abordar de forma correta os desafios tecnológicos\, ser capaz de antecipar as exigências regulamentares e ter uma abordagem centrada no cliente\, são matérias fundamentais na construção do futuro das marcas. \nQueremos partilhar e discutir os desenvolvimentos recentes e os desafios mais urgentes da nossa indústria – compromisso\, autenticidade\, transparência e criatividade – e a importância de encontrar novas formas de pensar e trabalhar para conseguir a excelência no desempenho. \n
URL:https://apan.pt/evento/better-marketing-mesmo-a-proposito/
CATEGORIES:Conferências
ATTACH;FMTTYPE=image/jpeg:https://apan.pt/wp-content/uploads/2023/06/apan-bm_mesmoaproposito.jpg
END:VEVENT
END:VCALENDAR