BEGIN:VCALENDAR
VERSION:2.0
PRODID:-//APAN - ECPv5.0.2//NONSGML v1.0//EN
CALSCALE:GREGORIAN
METHOD:PUBLISH
X-WR-CALNAME:APAN
X-ORIGINAL-URL:https://apan.pt
X-WR-CALDESC:Events for APAN
BEGIN:VTIMEZONE
TZID:Europe/Lisbon
BEGIN:DAYLIGHT
TZOFFSETFROM:+0000
TZOFFSETTO:+0100
TZNAME:WEST
DTSTART:20250330T010000
END:DAYLIGHT
BEGIN:STANDARD
TZOFFSETFROM:+0100
TZOFFSETTO:+0000
TZNAME:WET
DTSTART:20251026T010000
END:STANDARD
END:VTIMEZONE
BEGIN:VEVENT
DTSTART;VALUE=DATE:20250530
DTEND;VALUE=DATE:20250531
DTSTAMP:20260425T141037
CREATED:20250328T102422Z
LAST-MODIFIED:20250328T102422Z
UID:24846-1748563200-1748649599@apan.pt
SUMMARY:Better Marketing - NextGen Marketers: Construindo o Futuro
DESCRIPTION:A antecipação do futuro em Marketing envolve a análise e a compreensão das tendências emergentes\, bem como das inovações que irão moldar o cenário da indústria do marketing. Para tal as empresas precisam de se preparar proativamente\, ajustar as suas estratégias e adotar abordagens inovadoras para permanecerem competitivas. \nSerão abordados temas tais como a inteligência artificial\, a personalização da experiência do cliente e estratégias de retenção\, que contribuem para a criação de uma vantagem competitiva sustentável\, com o objetivo de influenciar os mercados em que se opera através de uma abordagem estratégica e multifacetada. \n
URL:https://apan.pt/evento/better-marketing-nextgen-marketers-construindo-o-futuro/
CATEGORIES:Conferências
ATTACH;FMTTYPE=image/jpeg:https://apan.pt/wp-content/uploads/2025/03/BM25_elementos-todos_C-07-min.jpg
END:VEVENT
END:VCALENDAR