BEGIN:VCALENDAR
VERSION:2.0
PRODID:-//APAN - ECPv5.0.2//NONSGML v1.0//EN
CALSCALE:GREGORIAN
METHOD:PUBLISH
X-WR-CALNAME:APAN
X-ORIGINAL-URL:https://apan.pt
X-WR-CALDESC:Events for APAN
BEGIN:VTIMEZONE
TZID:Europe/Lisbon
BEGIN:DAYLIGHT
TZOFFSETFROM:+0000
TZOFFSETTO:+0100
TZNAME:WEST
DTSTART:20160327T010000
END:DAYLIGHT
BEGIN:STANDARD
TZOFFSETFROM:+0100
TZOFFSETTO:+0000
TZNAME:WET
DTSTART:20161030T010000
END:STANDARD
END:VTIMEZONE
BEGIN:VEVENT
DTSTART;TZID=Europe/Lisbon:20160114T090000
DTEND;TZID=Europe/Lisbon:20160114T123000
DTSTAMP:20260425T121105
CREATED:20170315T163810Z
LAST-MODIFIED:20221026T083038Z
UID:17583-1452762000-1452774600@apan.pt
SUMMARY:Do They Get Your Message
DESCRIPTION:Do they get your message?\nO marketing tornou-se muito mais complexo face aos vários caminhos disponíveis para chegar às pessoas. Os media sociais\, as plataformas on-line\, os motores de busca estão em constante evolução\, e os lugares onde as pessoas podem ser abordadas mudou significativamente nos últimos anos. Adicionalmente temos um consumidor mais exigente\, mais cínico e que está em controle e que diz viver bem sem marcas. \nEstes são tempos para sermos corajosos e ousados\, e suficientemente humildes para repensar o que precisamos mudar e porque é que precisamos mudar\, enquanto marketers. \nO objetivo da Conferência da APAN é despertar a comunidade dos anunciantes para os problemas e para as oportunidades que estão à nossa frente. Queremos criar um sentimento comum e coletivo acerca de uma atividade que nunca foi tão importante e simultaneamente tão mal entendida como hoje. \nApresentação Brian Jacobs\nApresentação Jon Wilkins\nApresentação Stephan Loerke \n
URL:https://apan.pt/evento/conferencia-apan-2016/
CATEGORIES:Conferências
ATTACH;FMTTYPE=image/jpeg:https://apan.pt/wp-content/uploads/2017/03/imagem_eventos_396x2641.jpg
END:VEVENT
END:VCALENDAR